BEGIN:VCALENDAR
PRODID:-//hacksw/handcal//NONSGML v1.0//EN
VERSION:2.0
METHOD:PUBLISH
BEGIN:VEVENT
DTSTART:20140514T153000Z
DTEND:20140514T180000Z
LOCATION:Bacari Grill, Washington Township, New Jersey
UID:769220140514T153000Z“WHAT’S HOT AND WHAT’S NOT” IN ESTATE, FINANCIAL, BUSINESS AND ELDER LAW PLANNING
DTSTAMP:20260421T154223Z
DESCRIPTION:\nRSVP to this event:  \n \nhttps://gnjepecmay2014.eventbrite.com\n \nContinuing Education:\n \nNJ CPE - 2.0 credits\n \nNJ Insurance - 2.0 credits (Course 88895432 What's Hot and What's Not In Estate Financial, Business and Elder Law Planning)\n \nCFP - 2.0 credits (Program ID 05142014)\n \nNJ CLE - 2.0 WHAT'S HOT AND WHAT'S NOT IN ESTATE, FINANCIAL, BUSINESS AND ELDER LAW PLANNING\n
SUMMARY:“WHAT’S HOT AND WHAT’S NOT” IN ESTATE, FINANCIAL, BUSINESS AND ELDER LAW PLANNING - Greater New Jersey Estate Planning Council 
PRIORITY:3
BEGIN:VALARM
TRIGGER:PT18H
ACTION:DISPLAY
DESCRIPTION:Reminder
END:VALARM
END:VEVENT
END:VCALENDAR