BEGIN:VCALENDAR
PRODID:-//hacksw/handcal//NONSGML v1.0//EN
VERSION:2.0
METHOD:PUBLISH
BEGIN:VEVENT
DTSTART:20140305T163000Z
DTEND:20140305T190000Z
LOCATION:Bacari Grill, Washington Township, New Jersey
UID:769020140305T163000ZMacro-Economic Estate Planning -- Considerations in the Use of Life Insurance in the Estate Plan  
DTSTAMP:20260421T154105Z
DESCRIPTION:\nRSVP to this Event: https://gnjepcmarch2014.eventbrite.com/\n \n \n \n \n \nContinuing Education:\n \nCFP - 2.0 credits  Program Name: Use of Life Insurance In the Estate Plan\nProgram ID: 03052014\n \nNJ CPE - 2.0 credits\n \nNJ Insurance - 2.0 Course #88895043 Life Insurance "Inside" and "Outside" the Estate Plan -- Role of Life Insurance in the Estate Plan\n \nNJ CLE - 2.0 Considerations in the Use of Life Insurance in the Estate Plan\n \n \n
SUMMARY:Macro-Economic Estate Planning -- Considerations in the Use of Life Insurance in the Estate Plan   - Greater New Jersey Estate Planning Council 
PRIORITY:3
BEGIN:VALARM
TRIGGER:PT18H
ACTION:DISPLAY
DESCRIPTION:Reminder
END:VALARM
END:VEVENT
END:VCALENDAR