BEGIN:VCALENDAR
PRODID:-//hacksw/handcal//NONSGML v1.0//EN
VERSION:2.0
METHOD:PUBLISH
BEGIN:VEVENT
DTSTART:20140219T163000Z
DTEND:20140219T190000Z
LOCATION:Bacari Grill, Washington Township, New Jersey
UID:768920140219T163000ZA Heckerling Review - a review of the 2014 Heckerling Institute on Estate Planning/Univ of Miami
DTSTAMP:20260421T154416Z
DESCRIPTION:\nRSVP to this Event: https://gnjepcfebruary2014.eventbrite.com/\n \n \n \nContinuing Education:\n \nNJ Insurance - 2.0 credits (#88894945 Life) A Heckerling Review - A review of the 2014 Heckerling Institute on Estate Planning.\n \nNJ CLE - 2.0 credits\n \nCFP - 2.0 credits (Program Name: Review of the Heckerling Institute Conference Program ID: 02192014)\n \nNJ CPE - 2.0 credits\n
SUMMARY:A Heckerling Review - a review of the 2014 Heckerling Institute on Estate Planning/Univ of Miami - Greater New Jersey Estate Planning Council 
PRIORITY:3
BEGIN:VALARM
TRIGGER:PT18H
ACTION:DISPLAY
DESCRIPTION:Reminder
END:VALARM
END:VEVENT
END:VCALENDAR