BEGIN:VCALENDAR
PRODID:-//hacksw/handcal//NONSGML v1.0//EN
VERSION:2.0
METHOD:PUBLISH
BEGIN:VEVENT
DTSTART:20140108T163000Z
DTEND:20140108T190000Z
LOCATION:Bacari Grill, Washington Township, New Jersey
UID:768820140108T163000ZUS Estate and Gift Taxation of Non Resident Aliens
DTSTAMP:20260421T154350Z
DESCRIPTION:\nRSVP to this event:  http://gnjepcjanuary2014.eventbrite.com/\n \n \n \nContinuing Education:\n \nNJ Insurance - 2.0 credits Course # 88894795 U.S. Estate and Gift Taxation of Nonresident Aliens\n \nNJ CPE - 2.0 credits U.S. Estate and Gift Taxation of Non-Resident Aliens (Intermediate)\n \nNJ CLE - 2.0 credits US Estate and Gift Taxation of Nonresident Aliens\n \nNJ CFP - 2.0 credits Program Name: U.S. Estate & Gift Taxation of Nonresident Aliens; Program ID: 01082014\n \n \n \n \n
SUMMARY:US Estate and Gift Taxation of Non Resident Aliens - Greater New Jersey Estate Planning Council 
PRIORITY:3
BEGIN:VALARM
TRIGGER:PT18H
ACTION:DISPLAY
DESCRIPTION:Reminder
END:VALARM
END:VEVENT
END:VCALENDAR