BEGIN:VCALENDAR
PRODID:-//hacksw/handcal//NONSGML v1.0//EN
VERSION:2.0
METHOD:PUBLISH
BEGIN:VEVENT
DTSTART:20131211T163000Z
DTEND:20131211T190000Z
LOCATION:Bacari Grill
UID:768720131211T163000ZUnderstanding Social Security - Helping to Secure Your Clients' Retirement, and Transforming Social 
DTSTAMP:20260421T154539Z
DESCRIPTION:\nRSVP to this event:  http://gnjepcdecember2013.eventbrite.com\n \nContinuing Education: \n \nCFP - 2.0 credits Program ID: 12112013 Transforming Social Security into a Winning Retirement Strategy\n  \nNJ CPE - 2.0 credits - Understanding Social Security - Helping to Secure Your Client's Retirement and Transforming Social Secuirty into a Winning Strategy \n  \nNJ CLE - 2.0 credits \n  \nNJ Insurance - 2.0 credits #88894676 Helping to Secure Clients Retirement Transforming Social Security into a Winning Retirement Strategy\n \n \n
SUMMARY:Understanding Social Security - Helping to Secure Your Clients' Retirement, and Transforming Social  - Greater New Jersey Estate Planning Council 
PRIORITY:3
BEGIN:VALARM
TRIGGER:PT18H
ACTION:DISPLAY
DESCRIPTION:Reminder
END:VALARM
END:VEVENT
END:VCALENDAR