BEGIN:VCALENDAR
PRODID:-//hacksw/handcal//NONSGML v1.0//EN
VERSION:2.0
METHOD:PUBLISH
BEGIN:VEVENT
DTSTART:20131106T163000Z
DTEND:20131106T190000Z
LOCATION:Bacari Grill, Washington Township, New Jersey
UID:768120131106T163000ZRetirement Distribution Planning and Roth IRA Planning for 2013 and 2014, and Beyond
DTSTAMP:20260421T154836Z
DESCRIPTION:\nRSVP to this event:[ http://gnjepcnovember2013.eventbrite.com](http://gnjepcnovember2013.eventbrite.com)\n \nContinuing Education:\n \nCFP - 2.0 credits approved. Program Name: Retirement Distribution Planning--Roth IRAs Program ID: 11062013\n \nNJ Insurance 2.0 credits #88894547 Retirement Distribution Planning and Roth IRA Planning for 2013 and 2014 and Beyond.\n \nNJ CLE - 2.0 credits RETIREMENT DISTRIBUTION PLANNING AND ROTH IRA PLANNING FOR 2013 AND 2014 AND BEYOND\n \nNJ CPE 2.0 credits\n  \n \n \n
SUMMARY:Retirement Distribution Planning and Roth IRA Planning for 2013 and 2014, and Beyond - Greater New Jersey Estate Planning Council 
PRIORITY:3
BEGIN:VALARM
TRIGGER:PT18H
ACTION:DISPLAY
DESCRIPTION:Reminder
END:VALARM
END:VEVENT
END:VCALENDAR