BEGIN:VCALENDAR
PRODID:-//hacksw/handcal//NONSGML v1.0//EN
VERSION:2.0
METHOD:PUBLISH
BEGIN:VEVENT
DTSTART:20131016T153000Z
DTEND:20131016T180000Z
LOCATION:Bacari Grill, Washington Township, New Jersey
UID:768020131016T153000ZFrom Romance to Ruin....Estate Planning Issues Before, During and After Divorce
DTSTAMP:20260421T154152Z
DESCRIPTION:\nCLICK ON THIS LINK: http://gnjepcoctober2013.eventbrite.com Guest Fee $75.\n \nContinuing Education:\n \nCFP - 2.0 Credits. Program Name: Estate Planning Issues Before, During and After the DivorceProgram ID: 10162013\n \nNJ Insurance:  2.0 credits From Romance to Ruin Estate Planning Issues Before, During and After the Divorce #88894495\n \nNJ CPE - 2.0 credits\n \nNJ CLE - 2.0 credits\n
SUMMARY:From Romance to Ruin....Estate Planning Issues Before, During and After Divorce - Greater New Jersey Estate Planning Council 
PRIORITY:3
BEGIN:VALARM
TRIGGER:PT18H
ACTION:DISPLAY
DESCRIPTION:Reminder
END:VALARM
END:VEVENT
END:VCALENDAR