BEGIN:VCALENDAR
PRODID:-//hacksw/handcal//NONSGML v1.0//EN
VERSION:2.0
METHOD:PUBLISH
BEGIN:VEVENT
DTSTART:20130911T153000Z
DTEND:20130911T180000Z
LOCATION:Bacari Grill, Washington Township, New Jersey
UID:767920130911T153000ZA Capital Markets and Economic Outlook
DTSTAMP:20260421T154106Z
DESCRIPTION:\nRSVP to this event: (Guest tickets are non-refundable. Ticketing closes Friday, September 6th)\n \nCLICK ON THIS LINK:  gnjepcseptember2013.eventbrite.com\n \n \n \nSpeaker: Paul Robertson, MBA (Senior Portfolio Manager, Member of the Global Wealth Management Private Client Investment Policy Group). Bernstein Global Wealth Management, New York, NY.\n \n \n \nProgram Description: A look at the current landscape of capital markets and economy, as well as, a look ahead into 2014 and beyond.\n \n \n \nCE:\n \nCFP: 2.0 credits. Program Name: Capital Markets and Economic Outlook Program ID: 09112013\n \nCPE: 2.0 credits  (Economic Update - Separating the Facts from Noise)\n \nNJ CLE: 2.0 credits \n \nNJ Insurance - 2.0 credits (Program: Separating the Facts from Noise - # 88894389\n
SUMMARY:A Capital Markets and Economic Outlook - Greater New Jersey Estate Planning Council 
PRIORITY:3
BEGIN:VALARM
TRIGGER:PT18H
ACTION:DISPLAY
DESCRIPTION:Reminder
END:VALARM
END:VEVENT
END:VCALENDAR