BEGIN:VCALENDAR
PRODID:-//hacksw/handcal//NONSGML v1.0//EN
VERSION:2.0
METHOD:PUBLISH
BEGIN:VEVENT
DTSTART:20130612T153000Z
DTEND:20130612T183000Z
LOCATION:Bacari Grill, Washington Township, New Jersey
UID:670720130612T153000ZANNUAL SPECIAL EVENT     
DTSTAMP:20260421T154852Z
DESCRIPTION:\n RSVP to this Event:   gnjepcjune2013.eventbrite.com\n \nRevisiting our Estate Planning bag-of tricks...after 12 years of constant transfer tax change\n \nJoshua S. Rubenstein, Esq.\n \nNational Head of the Trust & Estate Practice Group Katten Muchin Rosenman LLP\n \n "This presentation will review a wide variety and assortment of estate planning and wealth transfer strategies, in view of unprecedented tax, economic and political/social change. Mr. Rubenstein will give his perspective and opinions on the current landscape of estate planning, the potential future, what to do and not do now, current estate/gift tax and related laws and legislation -- and will provide attendees with some of his best planning ideas."\n \n \n \n  \nContinuing Education: \n\n \n2.5 credits CFP \n2.5 credits NJ CLE \n2.5 credits NJ CPE \n2.0 credits NJ Insurance\n \n \n
SUMMARY:ANNUAL SPECIAL EVENT      - Greater New Jersey Estate Planning Council 
PRIORITY:3
BEGIN:VALARM
TRIGGER:PT18H
ACTION:DISPLAY
DESCRIPTION:Reminder
END:VALARM
END:VEVENT
END:VCALENDAR