BEGIN:VCALENDAR
PRODID:-//hacksw/handcal//NONSGML v1.0//EN
VERSION:2.0
METHOD:PUBLISH
BEGIN:VEVENT
DTSTART:20130508T153000Z
DTEND:20130508T180000Z
LOCATION:Bacari Grill, Washington Township, New Jersey
UID:670620130508T153000ZWhat's Hot and What's Not 2013
DTSTAMP:20260421T154355Z
DESCRIPTION:\nRSVP to this event:  gnjepcmay2013.eventbrite.com\n \nContinuing Education:\n \n2.0 NJ CPE\n \n2.0 NJ CLE - This program has been approved by the Board on Continuing Legal Education of the Supreme Court of New Jersey for 2.0 hours of total CLE credit.\n \n2.0 CFP credits may be available\n \nNO NJ Insurance available for this course. \n \n \n
SUMMARY:What's Hot and What's Not 2013 - Greater New Jersey Estate Planning Council 
PRIORITY:3
BEGIN:VALARM
TRIGGER:PT18H
ACTION:DISPLAY
DESCRIPTION:Reminder
END:VALARM
END:VEVENT
END:VCALENDAR