BEGIN:VCALENDAR
PRODID:-//hacksw/handcal//NONSGML v1.0//EN
VERSION:2.0
METHOD:PUBLISH
BEGIN:VEVENT
DTSTART:20130417T153000Z
DTEND:20130417T180000Z
LOCATION:Bacari Grill, Washington Township, New Jersey
UID:670520130417T153000ZA General Tax Update - And The New Jersey Estate Tax and Portability
DTSTAMP:20260421T154152Z
DESCRIPTION:\nRSVP to this event:  gnjepcapril2013.eventbrite.com (Guests: $50 plus credit processing)\n \nSpeaker documents provided to attendees with your reservation.\n \n \n \nContinuing Education:\n \n \n \nNJ CPE : 2.0 Credits Tax Update\n \nNJ CLE: 2.0 This program has been approved by the Board on Continuing Legal Education of the Supreme Court of New Jersey for 2.0 hours of total CLE credit. \n \nCFP - 2.0 Program ID: 04172013 Tax Update: New Jersey Estate Tax and Portability\n \nNJ Insurance - Approvals pending with the Department of Banking\n \n \n
SUMMARY:A General Tax Update - And The New Jersey Estate Tax and Portability - Greater New Jersey Estate Planning Council 
PRIORITY:3
BEGIN:VALARM
TRIGGER:PT18H
ACTION:DISPLAY
DESCRIPTION:Reminder
END:VALARM
END:VEVENT
END:VCALENDAR