BEGIN:VCALENDAR
PRODID:-//hacksw/handcal//NONSGML v1.0//EN
VERSION:2.0
METHOD:PUBLISH
BEGIN:VEVENT
DTSTART:20130313T153000Z
DTEND:20130313T180000Z
LOCATION:Bacari Grill, Washington Township, New Jersey
UID:670420130313T153000ZEstate Planning For Same Sex Marriages, Domestic Partners, Civil Unions and Non-Traditional Families
DTSTAMP:20260421T154540Z
DESCRIPTION:\nRSVP to this event:  gnjepcmarch2013.eventbrite.com\n \n \n \nCE Credits:\n \nNJ CPE : 2.0 Credits Estate Planning for Same Sex Marriages...\n \nNJ CLE: 2.0 This program has been approved by the Board on Continuing Legal Education of the Supreme Court of New Jersey for 2.0 hours of total CLE credit. (Course #26 Estate Planning for LGBT Clients) \n \nCFP - 2.0 Pending with CFP Board\n \nNJ Insurance - Not available.\n    \n \n \n \n
SUMMARY:Estate Planning For Same Sex Marriages, Domestic Partners, Civil Unions and Non-Traditional Families - Greater New Jersey Estate Planning Council 
PRIORITY:3
BEGIN:VALARM
TRIGGER:PT18H
ACTION:DISPLAY
DESCRIPTION:Reminder
END:VALARM
END:VEVENT
END:VCALENDAR