BEGIN:VCALENDAR
PRODID:-//hacksw/handcal//NONSGML v1.0//EN
VERSION:2.0
METHOD:PUBLISH
BEGIN:VEVENT
DTSTART:20130213T163000Z
DTEND:20130213T190000Z
LOCATION:Bacari Grill, Washington Township, New Jersey
UID:670320130213T163000ZPlanning for Chronic Illness -- Followed by 2013 Heckerling Review
DTSTAMP:20260421T154254Z
DESCRIPTION:\nRSVP to this event:  [http://gnjepcfebruary2013.eventbrite.com](http://gnjepcfebruary2013.eventbrite.com/)\n \nCE Credits:\n \nCFP: 2.0\n \nNJ CPE: 2.0\n \nNJ CLE: 2.0\n \nNJ Insurance: Approvals pending\n
SUMMARY:Planning for Chronic Illness -- Followed by 2013 Heckerling Review - Greater New Jersey Estate Planning Council 
PRIORITY:3
BEGIN:VALARM
TRIGGER:PT18H
ACTION:DISPLAY
DESCRIPTION:Reminder
END:VALARM
END:VEVENT
END:VCALENDAR