BEGIN:VCALENDAR
PRODID:-//hacksw/handcal//NONSGML v1.0//EN
VERSION:2.0
METHOD:PUBLISH
BEGIN:VEVENT
DTSTART:20130109T163000Z
DTEND:20130109T190000Z
LOCATION:Bacari Grill, Washington Township, New Jersey
UID:670220130109T163000ZLong Term Care for the Affluent High Net Worth Client
DTSTAMP:20260421T154237Z
DESCRIPTION:\nRSVP to this event:  gnjepcjanuary2013.eventbrite.com  Guest fee: $50 + credit processing.\n \nContinuing Educations Credits (2.0) are available for CFPs and CPAs.  Approvals are still pending for NJ Insurance and NJ CLE.\n \n \n \n \n \n \n \n \n \n \n \n \n
SUMMARY:Long Term Care for the Affluent High Net Worth Client - Greater New Jersey Estate Planning Council 
PRIORITY:3
BEGIN:VALARM
TRIGGER:PT18H
ACTION:DISPLAY
DESCRIPTION:Reminder
END:VALARM
END:VEVENT
END:VCALENDAR