BEGIN:VCALENDAR
PRODID:-//hacksw/handcal//NONSGML v1.0//EN
VERSION:2.0
METHOD:PUBLISH
BEGIN:VEVENT
DTSTART:20121212T163000Z
DTEND:20121212T190000Z
LOCATION:Bacari Grill, Washington Township, New Jersey
UID:670120121212T163000ZEstate Planning Essentials and Annuities
DTSTAMP:20260421T154222Z
DESCRIPTION:\nRSVP to this event:   gnjepcdecember2012.eventbrite.com\n \nCE Credits:\n \n2.0 CPE\n \n2.0 CFP Program: 12122012\n \n2.0 NJ CLE\n \nCredits may be available for NJ Insurance.\n
SUMMARY:Estate Planning Essentials and Annuities - Greater New Jersey Estate Planning Council 
PRIORITY:3
BEGIN:VALARM
TRIGGER:PT18H
ACTION:DISPLAY
DESCRIPTION:Reminder
END:VALARM
END:VEVENT
END:VCALENDAR