BEGIN:VCALENDAR
PRODID:-//hacksw/handcal//NONSGML v1.0//EN
VERSION:2.0
METHOD:PUBLISH
BEGIN:VEVENT
DTSTART:20121114T163000Z
DTEND:20121114T190000Z
LOCATION:Bacari Grill, Washington Township, New Jersey
UID:669920121114T163000ZRetirement Distribution Planning and Roth IRA Planning for 2012, 2013 and beyond
DTSTAMP:20260421T154707Z
DESCRIPTION:\nContinuing Education:\n \nCFP - 2.0\n \nCPE - 2.0\n \nNJ CLE - 2.0 This program has been approved by the Board on Continuing Legal Education of the Supreme Court of New Jersey for 2.0 hours of total CLE credit.\n \nInsurance - pending with the Department of Banking\n
SUMMARY:Retirement Distribution Planning and Roth IRA Planning for 2012, 2013 and beyond - Greater New Jersey Estate Planning Council 
PRIORITY:3
BEGIN:VALARM
TRIGGER:PT18H
ACTION:DISPLAY
DESCRIPTION:Reminder
END:VALARM
END:VEVENT
END:VCALENDAR