BEGIN:VCALENDAR
PRODID:-//hacksw/handcal//NONSGML v1.0//EN
VERSION:2.0
METHOD:PUBLISH
BEGIN:VEVENT
DTSTART:20121025T120000Z
DTEND:20121025T160000Z
LOCATION:Bacari Grill, Washington Township, New Jersey
UID:669820121025T120000ZEstate Planners Day 2012
DTSTAMP:20260421T154835Z
DESCRIPTION:\n \n \nESTATE PLANNERS DAY 2012\n \nSophisticated Planning Techniques for the Over $10 Million Client\n \n(which also work for the merely rich!)\n \nSPEAKER: Stacy Eastland, AEP\n \n \n \nBuffet Breakfast and Check-in open at 7:30 AM\n \nRSVP to this event: http://estateplannersday2012.eventbrite.com\n \nCOST:  $150 (plus processing) Non-member Guests and Senior Members \n \nFREE to 2012 - 13 Members of the Estate Planning Council of Bergen County, Inc.\n \n  \n \n \n \n \n \n[Stacy Eastland, AEP (BIO)](http://www.bergen-nj.councils.naepc.org/Bergen-NJ/Library/Stacy%20Eastland%20BIO%2Epdf)\n \n \n \nCE Credits: \n \n \n\nCFP - 3.5 credits\n \nCPM - 3.5 credits \nINSURANCE - Pending Approval with Department of Banking\n \nCTFA - "The Institute of Certified Bankers (ICB), a subsidiary of the American Bankers Association, is dedicated to promoting the highest standards of performance and ethics within the financial services industry. Sophisticated Planning Techniques for the Over $10 Million Client has been submitted to ICB for CE credit review and is pending approval. Once we receive notification of the credit approval, we will notify attendees/participants."\n \nCLE - Pending approval with Supreme Court of NJ CLE\n \n \n
SUMMARY:Estate Planners Day 2012 - Greater New Jersey Estate Planning Council 
PRIORITY:3
BEGIN:VALARM
TRIGGER:PT18H
ACTION:DISPLAY
DESCRIPTION:Reminder
END:VALARM
END:VEVENT
END:VCALENDAR