BEGIN:VCALENDAR
PRODID:-//hacksw/handcal//NONSGML v1.0//EN
VERSION:2.0
METHOD:PUBLISH
BEGIN:VEVENT
DTSTART:20120912T153000Z
DTEND:20120912T180000Z
LOCATION:Bacari Grill, Washington Township, New Jersey
UID:669720120912T153000ZA Capital Markets and Economic Outlook . . . Looking Beyond the Recession
DTSTAMP:20260421T154652Z
DESCRIPTION:\nRSVP to this event:  gnjepcseptember2012.eventbrite.com  Ticketing closes 9/7 @ 6 PM\n \nCE Credits:\n \nCLE (2.0 credits)\n \nCPA (2.0 credits)\n \nCFP (2.0 credits)\n \nINSURANCE (2.0 credits pending with the Department of Banking & Insurance)\n
SUMMARY:A Capital Markets and Economic Outlook . . . Looking Beyond the Recession - Greater New Jersey Estate Planning Council 
PRIORITY:3
BEGIN:VALARM
TRIGGER:PT18H
ACTION:DISPLAY
DESCRIPTION:Reminder
END:VALARM
END:VEVENT
END:VCALENDAR