BEGIN:VCALENDAR
PRODID:-//hacksw/handcal//NONSGML v1.0//EN
VERSION:2.0
METHOD:PUBLISH
BEGIN:VEVENT
DTSTART:20120215T133000Z
DTEND:20120215T150000Z
LOCATION:Fairfield, Matawan, Paramus, Princeton
UID:626020120215T133000ZFPANJ Event - "The Hidden Secrets of Veterans Benefits
DTSTAMP:20260421T154652Z
DESCRIPTION:\n www.fpanj.org/associations/2123/files/021512_FPANJ_Reg_Meeting.pdf\n
SUMMARY:FPANJ Event - "The Hidden Secrets of Veterans Benefits - Greater New Jersey Estate Planning Council 
PRIORITY:3
BEGIN:VALARM
TRIGGER:PT18H
ACTION:DISPLAY
DESCRIPTION:Reminder
END:VALARM
END:VEVENT
END:VCALENDAR