BEGIN:VCALENDAR
PRODID:-//hacksw/handcal//NONSGML v1.0//EN
VERSION:2.0
METHOD:PUBLISH
BEGIN:VEVENT
DTSTART:20120320T200000Z
DTEND:20120320T233000Z
LOCATION:Hilton Woodbridge, Iselin, NJ
UID:614720120320T200000ZFPANJ  Dinner Meeting -  Discovering Memory Power / Knock out Networking
DTSTAMP:20260421T154222Z
DESCRIPTION:
SUMMARY:FPANJ  Dinner Meeting -  Discovering Memory Power / Knock out Networking - Greater New Jersey Estate Planning Council 
PRIORITY:3
BEGIN:VALARM
TRIGGER:PT18H
ACTION:DISPLAY
DESCRIPTION:Reminder
END:VALARM
END:VEVENT
END:VCALENDAR