BEGIN:VCALENDAR
PRODID:-//hacksw/handcal//NONSGML v1.0//EN
VERSION:2.0
METHOD:PUBLISH
BEGIN:VEVENT
DTSTART:20111026T111500Z
DTEND:20111026T210000Z
LOCATION:Woodbridge Hilton, Exit 131A Garden State Parkway 732-494-6200
UID:596720111026T111500ZFPANJ October 26th Conference
DTSTAMP:20260421T154502Z
DESCRIPTION:\nOur Featured Topics:\n\n“Market Outlook and Portfolio Positioning” - Mark Bronzo, CFA Portfolio Manager, Rydex/SGI and Dr. Jerome Abernathy, Director of Research, Rydex/SGI - The speakers will discuss developing optimal portfolios in the current environment. As well as what bond yields, monetary policy and yield curves are telegraphing and the effects on economic fundamentals of US vs. global equity markets.\n\n“Connecting Money & Life: The Key to Creating “All Weather” Client Relationships” - Michael Kay, CFP®, CPA, President of Financial Focus, LLC and Carol Anderson, M.S., President of Money Quotient - The financial crisis and painfully slow economic recovery have made a profound impact on the American psyche. This experience has been dramatic and traumatic for many, but has also precipitated a healthy re-examination of deeply held beliefs and self-sabotaging behaviors. This current “national consciousness” gives you, as financial planners, the perfect opportunity to engage your clients in important conversations that have the potential for changing the trajectory of their lives in a positive and profound way. \n\n“A Financial Planner's Social Security Toolbox” - Everett Lo, Project Manager with the Social Security Administration's Regional Public Affairs Office - Presenter will take Planner's through the resources available from SSA to help planners with Social Security questions ranging from the basics of who qualifies, how to estimate online the client's retirement benefits and resources, and planning for Special Situations like divorce.\n\n “Bring In The Largest IRAs Now!” - Ed Slott, CPA from Ed Slott and Company, LLC - The big IRA money is moving to educated advisors who help clients plan for future taxes. The new tax rules provide a limited window of opportunity for advisors to increase their income by creating plans to help clients keep more of the money they make. Advisors will learn how to do exactly that and capture new business in the process.\n\nCredits:\n Applied for 7 CFP® CE’s. Qualifies for 7 Accounting CPE CE’s.\n\nPLEASE NOTE: We will not be offering NJ Insurance CE's. Those members that have their CFP® designation can self-report.\n\nNo partial credit is available. (Please be prepared to stay from 8:30 am to 4:45 pm to receive credits)\n   \n \n\n \n \n \n\nRegistration Fees: \n   \n  Early Bird Registration\n Through September 23\n Registration\n Sept 24 – Oct 25 \n  Onsite FPANJ Members* \n  $125  $225  $275 Non-members  $175  $275  $325 \n  \n \n*This pricing is for FPANJ members that paid their chapter assessment. Members who did not pay the chapter assessment will be charged non-member rates.\n\n If you prefer sending a check as payment,  please email us at reserve@fpanj.org for a registration flyer, fill it out and please mail with your check to:\n\n FPANJ * 551 Valley Road * #365 * Upper Montclair * NJ * 07043\n\nFor your protection, credit card payments will now only be accepted online.  If you register onsite, only checks or cash will be accepted. We understand this may be an inconvenience for some of our members but we must change our procedures for your protection and the protection of your association. Thank you for your cooperation in this matter.\n\n\nCancellation policy: The registration fee is refundable for those cancellations received in writing at the FPANJ address below, no later than 10/05/11, minus a $50 administration fee. No refunds will be granted after 10/05/11.\n\n\n\n
SUMMARY:FPANJ October 26th Conference - Greater New Jersey Estate Planning Council 
PRIORITY:3
BEGIN:VALARM
TRIGGER:PT18H
ACTION:DISPLAY
DESCRIPTION:Reminder
END:VALARM
END:VEVENT
END:VCALENDAR