BEGIN:VCALENDAR
PRODID:-//hacksw/handcal//NONSGML v1.0//EN
VERSION:2.0
METHOD:PUBLISH
BEGIN:VEVENT
DTSTART:20120509T151500Z
DTEND:20120509T181500Z
LOCATION:NOTE DIFFERENT LOCATION: SEASONS, 644 Pascack Road, Washington Township, NJ 07675
UID:593620120509T151500ZEstate Planning Through An Asset Protection Lens and Using Flexible Trusts
DTSTAMP:20260421T154417Z
DESCRIPTION:\n* * PLEASE NOTE NEW LOCATION AND TIME FOR THIS SPECIAL MAY EVENT * * \n \nSeasons - 644 Pascack Road, Washington Township, NJ 07675\n \n Directions:  www.seasonscatering.com/directions.html\n \n \n \nRSVP TO THIS EVENT: \n \n \n \nhttp://gnjepcmay2012.eventbrite.com/\n \nGUEST TICKETS $80+credit processing\n \nContinuing Education Credits:\n \n2.0 CFP, 2.0 CPA, 2.0 NJ Attorney, 2.0 NJ Licensed Insurance Professionals \n \n \n \n    \n \n11:15 AM Registration\n \n11:45 Lunch\n \n12:15 - 2:15 Presentation and Q&A\n \n \n \n \n
SUMMARY:Estate Planning Through An Asset Protection Lens and Using Flexible Trusts - Greater New Jersey Estate Planning Council 
PRIORITY:3
BEGIN:VALARM
TRIGGER:PT18H
ACTION:DISPLAY
DESCRIPTION:Reminder
END:VALARM
END:VEVENT
END:VCALENDAR