BEGIN:VCALENDAR
PRODID:-//hacksw/handcal//NONSGML v1.0//EN
VERSION:2.0
METHOD:PUBLISH
BEGIN:VEVENT
DTSTART:20120314T153000Z
DTEND:20120314T180000Z
LOCATION:Bacari Grill, Washington Township, New Jersey
UID:593520120314T153000ZFinancial and Planning Issues For The Female Client
DTSTAMP:20260421T154255Z
DESCRIPTION:\nRSVP to this event:  gnjepcmarch2012.eventbrite.com/  \nCE Credits (2.0): Licensed Insurance Professionals, NJ LIcensed Attorney and CFP's. \n  \nTicket sales end: Friday, March 9th @ 6:00 PM \n  \n  \n
SUMMARY:Financial and Planning Issues For The Female Client - Greater New Jersey Estate Planning Council 
PRIORITY:3
BEGIN:VALARM
TRIGGER:PT18H
ACTION:DISPLAY
DESCRIPTION:Reminder
END:VALARM
END:VEVENT
END:VCALENDAR