BEGIN:VCALENDAR
PRODID:-//hacksw/handcal//NONSGML v1.0//EN
VERSION:2.0
METHOD:PUBLISH
BEGIN:VEVENT
DTSTART:20120208T163000Z
DTEND:20120208T190000Z
LOCATION:Bacari Grill, Washington Township, New Jersey
UID:593320120208T163000ZNon-Qualified Executive Benefits/Business Planning & Life Insurance Inside a Qualified Plan
DTSTAMP:20260421T154256Z
DESCRIPTION:\n \n \nFREE - 2011-12 GNJEPC Paid Members\n \nGUESTS - $50 online by credit card\n \n \n \nTicket sales close 6:00 pm Friday, February 3, 2012.\n \nContact gsboardman@gmail.com with any questions.\n
SUMMARY:Non-Qualified Executive Benefits/Business Planning & Life Insurance Inside a Qualified Plan - Greater New Jersey Estate Planning Council 
PRIORITY:3
BEGIN:VALARM
TRIGGER:PT18H
ACTION:DISPLAY
DESCRIPTION:Reminder
END:VALARM
END:VEVENT
END:VCALENDAR