BEGIN:VCALENDAR
PRODID:-//hacksw/handcal//NONSGML v1.0//EN
VERSION:2.0
METHOD:PUBLISH
BEGIN:VEVENT
DTSTART:20120111T163000Z
DTEND:20120111T190000Z
LOCATION:Bacari Grill, Washington Township, New Jersey
UID:593220120111T163000ZElder Law and Elder Care Planning -- A Practical Overview
DTSTAMP:20260421T154349Z
DESCRIPTION:\nRSVP to this event :  gnjepcjanuary2012.eventbrite.com\n \nMembers: Free\n \nGuests: $50 (plus credit processing)\n
SUMMARY:Elder Law and Elder Care Planning -- A Practical Overview - Greater New Jersey Estate Planning Council 
PRIORITY:3
BEGIN:VALARM
TRIGGER:PT18H
ACTION:DISPLAY
DESCRIPTION:Reminder
END:VALARM
END:VEVENT
END:VCALENDAR