BEGIN:VCALENDAR
PRODID:-//hacksw/handcal//NONSGML v1.0//EN
VERSION:2.0
METHOD:PUBLISH
BEGIN:VEVENT
DTSTART:20120411T153000Z
DTEND:20120411T180000Z
LOCATION:Bacari Grill, Washington Township, New Jersey
UID:593120120411T153000ZThe Fine Art of Designing Estate Planning Tools & Techniques/Psychological Side of Estate Planning
DTSTAMP:20260421T154653Z
DESCRIPTION:\n \nFor this event Mr. Hood will be presenting from another location via a live webinar/teleconference.\n \nRSVP to this event:  http://gnjepcapril2012.eventbrite.com/\n \nTicket sales close Friday, April 6th.\n \n(2.0 Credits for NJ Licensed Insurance Professionals, CFPs, CPAs and NJ Licensed Attorneys)\n \nSpeaker materials provided to attendees only for their personal use.\n
SUMMARY:The Fine Art of Designing Estate Planning Tools & Techniques/Psychological Side of Estate Planning - Greater New Jersey Estate Planning Council 
PRIORITY:3
BEGIN:VALARM
TRIGGER:PT18H
ACTION:DISPLAY
DESCRIPTION:Reminder
END:VALARM
END:VEVENT
END:VCALENDAR