BEGIN:VCALENDAR
PRODID:-//hacksw/handcal//NONSGML v1.0//EN
VERSION:2.0
METHOD:PUBLISH
BEGIN:VEVENT
DTSTART:20111020T120000Z
DTEND:20111020T160000Z
LOCATION:Saddle Brook Marriott
UID:592920111020T120000ZBergen County Estate Planners Day
DTSTAMP:20260421T154357Z
DESCRIPTION:
SUMMARY:Bergen County Estate Planners Day - Greater New Jersey Estate Planning Council 
PRIORITY:3
BEGIN:VALARM
TRIGGER:PT18H
ACTION:DISPLAY
DESCRIPTION:Reminder
END:VALARM
END:VEVENT
END:VCALENDAR