BEGIN:VCALENDAR
PRODID:-//hacksw/handcal//NONSGML v1.0//EN
VERSION:2.0
METHOD:PUBLISH
BEGIN:VEVENT
DTSTART:20120613T153000Z
DTEND:20120613T180000Z
LOCATION:Bacari Grill, Washington Township, New Jersey
UID:592720120613T153000ZWhat's Hot and What's Not in Estate Planning for 2012
DTSTAMP:20260421T154608Z
DESCRIPTION:\nRSVP to this Event:  gnjepcjune2012.eventbrite.com/\n \nCredits:  2.0 CPAs,  2.0 NJ Attorneys, and 2.0 CFPs\n \n*Course approval are pending for Licensed Insurance Professionals at the time of this Notice.\n \n \n \n \n
SUMMARY:What's Hot and What's Not in Estate Planning for 2012 - Greater New Jersey Estate Planning Council 
PRIORITY:3
BEGIN:VALARM
TRIGGER:PT18H
ACTION:DISPLAY
DESCRIPTION:Reminder
END:VALARM
END:VEVENT
END:VCALENDAR