BEGIN:VCALENDAR
PRODID:-//hacksw/handcal//NONSGML v1.0//EN
VERSION:2.0
METHOD:PUBLISH
BEGIN:VEVENT
DTSTART:20111214T163000Z
DTEND:20111214T190000Z
LOCATION:Bacari Grill, Washington Township, New Jersey
UID:555720111214T163000ZRetirement Accumulation and Distribution Planning - The Preservation Trust
DTSTAMP:20260421T154606Z
DESCRIPTION:\nCourse documents available to attendees only.\n \nTicketing closes Friday, December 9th @ 6:00 PM\n
SUMMARY:Retirement Accumulation and Distribution Planning - The Preservation Trust - Greater New Jersey Estate Planning Council 
PRIORITY:3
BEGIN:VALARM
TRIGGER:PT18H
ACTION:DISPLAY
DESCRIPTION:Reminder
END:VALARM
END:VEVENT
END:VCALENDAR