BEGIN:VCALENDAR
PRODID:-//hacksw/handcal//NONSGML v1.0//EN
VERSION:2.0
METHOD:PUBLISH
BEGIN:VEVENT
DTSTART:20111109T163000Z
DTEND:20111109T190000Z
LOCATION:Bacari Grill, Washington Township, New Jersey
UID:555620111109T163000ZCharitable Planning...Why you need and how to incorporate Charitable Planning into your practice
DTSTAMP:20260421T154546Z
DESCRIPTION:\nPaul Hansen, CFP, CLU, ChFC, CAP\n \nThe HTC Group\n \nSmith Barney /Wealth Management\n \nMaja Meighan, Director of Planned Giving & Major Gifts, Monmouth Medical Center\n \n \n \n \n
SUMMARY:Charitable Planning...Why you need and how to incorporate Charitable Planning into your practice - Greater New Jersey Estate Planning Council 
PRIORITY:3
BEGIN:VALARM
TRIGGER:PT18H
ACTION:DISPLAY
DESCRIPTION:Reminder
END:VALARM
END:VEVENT
END:VCALENDAR