BEGIN:VCALENDAR
PRODID:-//hacksw/handcal//NONSGML v1.0//EN
VERSION:2.0
METHOD:PUBLISH
BEGIN:VEVENT
DTSTART:20111012T153000Z
DTEND:20111012T180000Z
LOCATION:Bacari Grill, Washington Township, New Jersey
UID:555520111012T153000ZSpecial Needs Planning and Special Needs Trusts
DTSTAMP:20260421T154502Z
DESCRIPTION:\nPanel:\n \nSpecial Needs Planning - Regina Spielberg, Esq., Partner of Schenck, Price, Smith & King LLP\n \nErin Sunday Vice President and Special Needs Trust Specialist of Wells Fargo     \n \n \n \n      \n
SUMMARY:Special Needs Planning and Special Needs Trusts - Greater New Jersey Estate Planning Council 
PRIORITY:3
BEGIN:VALARM
TRIGGER:PT18H
ACTION:DISPLAY
DESCRIPTION:Reminder
END:VALARM
END:VEVENT
END:VCALENDAR