BEGIN:VCALENDAR
PRODID:-//hacksw/handcal//NONSGML v1.0//EN
VERSION:2.0
METHOD:PUBLISH
BEGIN:VEVENT
DTSTART:20110112T164500Z
DTEND:20110112T190000Z
LOCATION:
UID:527820110112T164500ZEVENT CANCELLED DUE TO SNOW FORECAST
DTSTAMP:20260421T154707Z
DESCRIPTION:
SUMMARY:EVENT CANCELLED DUE TO SNOW FORECAST - Greater New Jersey Estate Planning Council 
PRIORITY:3
BEGIN:VALARM
TRIGGER:PT18H
ACTION:DISPLAY
DESCRIPTION:Reminder
END:VALARM
END:VEVENT
END:VCALENDAR