BEGIN:VCALENDAR
PRODID:-//hacksw/handcal//NONSGML v1.0//EN
VERSION:2.0
METHOD:PUBLISH
BEGIN:VEVENT
DTSTART:20110608T154500Z
DTEND:20110608T180000Z
LOCATION:Bacari Grill, Washington Township, New Jersey
UID:509420110608T154500ZEstate Planning Strategies During the 2011-2012 Window
DTSTAMP:20260421T155151Z
DESCRIPTION:
SUMMARY:Estate Planning Strategies During the 2011-2012 Window - Greater New Jersey Estate Planning Council 
PRIORITY:3
BEGIN:VALARM
TRIGGER:PT18H
ACTION:DISPLAY
DESCRIPTION:Reminder
END:VALARM
END:VEVENT
END:VCALENDAR