BEGIN:VCALENDAR
PRODID:-//hacksw/handcal//NONSGML v1.0//EN
VERSION:2.0
METHOD:PUBLISH
BEGIN:VEVENT
DTSTART:20110511T154500Z
DTEND:20110511T180000Z
LOCATION:Bacari Grill, Washington Township, New Jersey
UID:509320110511T154500ZWhat's Hot and What's Not
DTSTAMP:20260421T155052Z
DESCRIPTION:\nThe next meeting of the Greater New Jersey Estate Planning Council will feature our very own Alan Davidson, Esq., whose offices are in Elmwood Park, NJ. He will deliver his annual presentation of "What's Hot and What's Not". Mr. Davidson will discuss recent newsworthy cases and laws and analyze their impact on Estate Planning practice. Many look forward to this luncheon and it promises to be both informative and entertaining.\n
SUMMARY:What's Hot and What's Not - Greater New Jersey Estate Planning Council 
PRIORITY:3
BEGIN:VALARM
TRIGGER:PT18H
ACTION:DISPLAY
DESCRIPTION:Reminder
END:VALARM
END:VEVENT
END:VCALENDAR