BEGIN:VCALENDAR
PRODID:-//hacksw/handcal//NONSGML v1.0//EN
VERSION:2.0
METHOD:PUBLISH
BEGIN:VEVENT
DTSTART:20110413T154500Z
DTEND:20110413T180000Z
LOCATION:Bacari Grill, Washington Township, New Jersey
UID:509220110413T154500ZThe Beneficiary Controlled Dynasty Trust: Creditor Protection and Estate Tax Savings
DTSTAMP:20260421T155046Z
DESCRIPTION:\nFor this event Mr. Oshins will be presenting from another location via a live webinar.\n
SUMMARY:The Beneficiary Controlled Dynasty Trust: Creditor Protection and Estate Tax Savings - Greater New Jersey Estate Planning Council 
PRIORITY:3
BEGIN:VALARM
TRIGGER:PT18H
ACTION:DISPLAY
DESCRIPTION:Reminder
END:VALARM
END:VEVENT
END:VCALENDAR