BEGIN:VCALENDAR
PRODID:-//hacksw/handcal//NONSGML v1.0//EN
VERSION:2.0
METHOD:PUBLISH
BEGIN:VEVENT
DTSTART:20110209T164500Z
DTEND:20110209T190000Z
LOCATION:Bacari Grill, Washington Township, New Jersey
UID:508420110209T164500ZA Heckerling Review - from the Heckerling Institute on Estate Planning, January 2011, Orlando, FL
DTSTAMP:20260421T155125Z
DESCRIPTION:
SUMMARY:A Heckerling Review - from the Heckerling Institute on Estate Planning, January 2011, Orlando, FL - Greater New Jersey Estate Planning Council 
PRIORITY:3
BEGIN:VALARM
TRIGGER:PT18H
ACTION:DISPLAY
DESCRIPTION:Reminder
END:VALARM
END:VEVENT
END:VCALENDAR