BEGIN:VCALENDAR
PRODID:-//hacksw/handcal//NONSGML v1.0//EN
VERSION:2.0
METHOD:PUBLISH
BEGIN:VEVENT
DTSTART:20101208T164500Z
DTEND:20101208T190000Z
LOCATION:Bacari Grill, Washington Township, New Jersey
UID:508020101208T164500ZBeyond the Basics - Tax and Retirement Planning for Business Owners
DTSTAMP:20260421T155047Z
DESCRIPTION:\nBeyond The Basics – Tax & Retirement Planning For Business Owners – Creative Life Insurance, Section 79, Cash Balance Plans, Section 419, and Captive Insurance Companies.\n
SUMMARY:Beyond the Basics - Tax and Retirement Planning for Business Owners - Greater New Jersey Estate Planning Council 
PRIORITY:3
BEGIN:VALARM
TRIGGER:PT18H
ACTION:DISPLAY
DESCRIPTION:Reminder
END:VALARM
END:VEVENT
END:VCALENDAR