BEGIN:VCALENDAR
PRODID:-//hacksw/handcal//NONSGML v1.0//EN
VERSION:2.0
METHOD:PUBLISH
BEGIN:VEVENT
DTSTART:20101110T164500Z
DTEND:20101110T190000Z
LOCATION:Bacari Grill, Washington Township, New Jersey
UID:507620101110T164500ZRisk Management for the High Net Worth Client
DTSTAMP:20260421T155026Z
DESCRIPTION:
SUMMARY:Risk Management for the High Net Worth Client - Greater New Jersey Estate Planning Council 
PRIORITY:3
BEGIN:VALARM
TRIGGER:PT18H
ACTION:DISPLAY
DESCRIPTION:Reminder
END:VALARM
END:VEVENT
END:VCALENDAR