BEGIN:VCALENDAR
PRODID:-//hacksw/handcal//NONSGML v1.0//EN
VERSION:2.0
METHOD:PUBLISH
BEGIN:VEVENT
DTSTART:20101013T154500Z
DTEND:20101013T180000Z
LOCATION:Bacari Grill, Washington Township, New Jersey
UID:502720101013T154500ZDistribution Planning from Qualified Retirement Plans and IRAs
DTSTAMP:20260421T155051Z
DESCRIPTION:
SUMMARY:Distribution Planning from Qualified Retirement Plans and IRAs - Greater New Jersey Estate Planning Council 
PRIORITY:3
BEGIN:VALARM
TRIGGER:PT18H
ACTION:DISPLAY
DESCRIPTION:Reminder
END:VALARM
END:VEVENT
END:VCALENDAR