BEGIN:VCALENDAR
PRODID:-//hacksw/handcal//NONSGML v1.0//EN
VERSION:2.0
METHOD:PUBLISH
BEGIN:VEVENT
DTSTART:20100915T154500Z
DTEND:20100915T180000Z
LOCATION:Bacari Grill, Washington Township, New Jersey
UID:493220100915T154500ZWhere Do We Go From Here?  Beyond the Great Recession
DTSTAMP:20260421T154237Z
DESCRIPTION:
SUMMARY:Where Do We Go From Here?  Beyond the Great Recession - Greater New Jersey Estate Planning Council 
PRIORITY:3
BEGIN:VALARM
TRIGGER:PT18H
ACTION:DISPLAY
DESCRIPTION:Reminder
END:VALARM
END:VEVENT
END:VCALENDAR