BEGIN:VCALENDAR
PRODID:-//hacksw/handcal//NONSGML v1.0//EN
VERSION:2.0
METHOD:PUBLISH
BEGIN:VEVENT
DTSTART:20100609T151500Z
DTEND:20100609T183000Z
LOCATION:Bacari Grill, Washington Township, NJ 
UID:414520100609T151500ZEstate Planning in 2010
DTSTAMP:20260421T154223Z
DESCRIPTION:
SUMMARY:Estate Planning in 2010 - Greater New Jersey Estate Planning Council 
PRIORITY:3
BEGIN:VALARM
TRIGGER:PT18H
ACTION:DISPLAY
DESCRIPTION:Reminder
END:VALARM
END:VEVENT
END:VCALENDAR