BEGIN:VCALENDAR
PRODID:-//hacksw/handcal//NONSGML v1.0//EN
VERSION:2.0
METHOD:PUBLISH
BEGIN:VEVENT
DTSTART:20100512T154500Z
DTEND:20100512T180000Z
LOCATION:Bacari Grill, Washington Township, NJ 
UID:414420100512T154500ZWhat's Hot and What's Not
DTSTAMP:20260421T154355Z
DESCRIPTION:
SUMMARY:What's Hot and What's Not - Greater New Jersey Estate Planning Council 
PRIORITY:3
BEGIN:VALARM
TRIGGER:PT18H
ACTION:DISPLAY
DESCRIPTION:Reminder
END:VALARM
END:VEVENT
END:VCALENDAR