BEGIN:VCALENDAR
PRODID:-//hacksw/handcal//NONSGML v1.0//EN
VERSION:2.0
METHOD:PUBLISH
BEGIN:VEVENT
DTSTART:20100310T164500Z
DTEND:20100310T190000Z
LOCATION:Bacari Grill, Washington Township, NJ 
UID:414220100310T164500ZAn Introduction to Life Settlements and the Current Landscape
DTSTAMP:20260421T154105Z
DESCRIPTION:
SUMMARY:An Introduction to Life Settlements and the Current Landscape - Greater New Jersey Estate Planning Council 
PRIORITY:3
BEGIN:VALARM
TRIGGER:PT18H
ACTION:DISPLAY
DESCRIPTION:Reminder
END:VALARM
END:VEVENT
END:VCALENDAR