BEGIN:VCALENDAR
PRODID:-//hacksw/handcal//NONSGML v1.0//EN
VERSION:2.0
METHOD:PUBLISH
BEGIN:VEVENT
DTSTART:20100210T163000Z
DTEND:20100210T193000Z
LOCATION:Bacari Grill, Washington Township, NJ 
UID:414120100210T163000ZEVENT CANCELLED DUE TO SNOW FORECAST
DTSTAMP:20260421T154238Z
DESCRIPTION:
SUMMARY:EVENT CANCELLED DUE TO SNOW FORECAST - Greater New Jersey Estate Planning Council 
PRIORITY:3
BEGIN:VALARM
TRIGGER:PT18H
ACTION:DISPLAY
DESCRIPTION:Reminder
END:VALARM
END:VEVENT
END:VCALENDAR