BEGIN:VCALENDAR
PRODID:-//hacksw/handcal//NONSGML v1.0//EN
VERSION:2.0
METHOD:PUBLISH
BEGIN:VEVENT
DTSTART:20100113T164500Z
DTEND:20100113T190000Z
LOCATION:Bacari Grill, Washington Township, NJ 
UID:414020100113T164500ZThe Taxation of Art and Collectibles Revisited.
DTSTAMP:20260421T154350Z
DESCRIPTION:
SUMMARY:The Taxation of Art and Collectibles Revisited. - Greater New Jersey Estate Planning Council 
PRIORITY:3
BEGIN:VALARM
TRIGGER:PT18H
ACTION:DISPLAY
DESCRIPTION:Reminder
END:VALARM
END:VEVENT
END:VCALENDAR