BEGIN:VCALENDAR
PRODID:-//hacksw/handcal//NONSGML v1.0//EN
VERSION:2.0
METHOD:PUBLISH
BEGIN:VEVENT
DTSTART:20091209T164500Z
DTEND:20091209T190000Z
LOCATION:Bacari Grill, Washington Township, NJ 
UID:413920091209T164500Z“Estate Planning Without a Net.  Toxic Assets, Deflation, Low-Interest Rates and   
DTSTAMP:20260421T154729Z
DESCRIPTION:\nTed kurlowicz, of The American College will be our speaker for the December luncheon. Also, George Weinstock will be teaching CFP Ethics Course following the regular meeting. It will be 1 1/2 hours and the cost remains $60 for this course. The course earns the required 2 credits to maintain the CFPO license. There will be a handout given to all attendees. \n
SUMMARY:“Estate Planning Without a Net.  Toxic Assets, Deflation, Low-Interest Rates and    - Greater New Jersey Estate Planning Council 
PRIORITY:3
BEGIN:VALARM
TRIGGER:PT18H
ACTION:DISPLAY
DESCRIPTION:Reminder
END:VALARM
END:VEVENT
END:VCALENDAR