BEGIN:VCALENDAR
PRODID:-//hacksw/handcal//NONSGML v1.0//EN
VERSION:2.0
METHOD:PUBLISH
BEGIN:VEVENT
DTSTART:20091111T164500Z
DTEND:20091111T190000Z
LOCATION:Bacari Grill, Washington Township, NJ 
UID:413820091111T164500ZValuations - Valuations of Family Limited Partnerships, Family Limited Liability Companies, etc.
DTSTAMP:20260421T154255Z
DESCRIPTION:
SUMMARY:Valuations - Valuations of Family Limited Partnerships, Family Limited Liability Companies, etc. - Greater New Jersey Estate Planning Council 
PRIORITY:3
BEGIN:VALARM
TRIGGER:PT18H
ACTION:DISPLAY
DESCRIPTION:Reminder
END:VALARM
END:VEVENT
END:VCALENDAR