BEGIN:VCALENDAR
PRODID:-//hacksw/handcal//NONSGML v1.0//EN
VERSION:2.0
METHOD:PUBLISH
BEGIN:VEVENT
DTSTART:20091014T180000Z
DTEND:20091014T190000Z
LOCATION:
UID:413720091014T180000ZNot Specified
DTSTAMP:20260421T154237Z
DESCRIPTION:
SUMMARY:Not Specified - Greater New Jersey Estate Planning Council 
PRIORITY:3
BEGIN:VALARM
TRIGGER:PT18H
ACTION:DISPLAY
DESCRIPTION:Reminder
END:VALARM
END:VEVENT
END:VCALENDAR