BEGIN:VCALENDAR
PRODID:-//hacksw/handcal//NONSGML v1.0//EN
VERSION:2.0
METHOD:PUBLISH
BEGIN:VEVENT
DTSTART:20091014T154500Z
DTEND:20091014T180000Z
LOCATION:Bacari Grill, Washington Township, NJ
UID:413620091014T154500ZThe 10 Major Errors in Planning for Retirement Benefits - The Do's and Don't's for Retirement Planni
DTSTAMP:20260421T154105Z
DESCRIPTION:\nThe 10 Major Errors In Planning for Retirement Benefits \n
SUMMARY:The 10 Major Errors in Planning for Retirement Benefits - The Do's and Don't's for Retirement Planni - Greater New Jersey Estate Planning Council 
PRIORITY:3
BEGIN:VALARM
TRIGGER:PT18H
ACTION:DISPLAY
DESCRIPTION:Reminder
END:VALARM
END:VEVENT
END:VCALENDAR