BEGIN:VCALENDAR
PRODID:-//hacksw/handcal//NONSGML v1.0//EN
VERSION:2.0
METHOD:PUBLISH
BEGIN:VEVENT
DTSTART:20090916T154500Z
DTEND:20090916T180000Z
LOCATION:Bacari Grill, Washington Township, NJ
UID:413520090916T154500ZThe Economy
DTSTAMP:20260421T154415Z
DESCRIPTION:\nRichard L.N. Weaver is the Vice President and Senior Portfolio Manager for Bernstein Global Wealth Management. Mr. Weaver will speak on a topic of interest to us all, the Economy \n
SUMMARY:The Economy - Greater New Jersey Estate Planning Council 
PRIORITY:3
BEGIN:VALARM
TRIGGER:PT18H
ACTION:DISPLAY
DESCRIPTION:Reminder
END:VALARM
END:VEVENT
END:VCALENDAR